BEGIN:VCALENDAR
VERSION:2.0
PRODID:-//Big Band Graz Süd - ECPv4.6.11//NONSGML v1.0//EN
CALSCALE:GREGORIAN
METHOD:PUBLISH
X-WR-CALNAME:Big Band Graz Süd
X-ORIGINAL-URL:https://xn--bigbandgrazsd-7ob.at
X-WR-CALDESC:Veranstaltungen für Big Band Graz Süd
BEGIN:VEVENT
DTSTART;TZID=Europe/Berlin:20220423T193000
DTEND;TZID=Europe/Berlin:20220423T220000
DTSTAMP:20260422T084212
CREATED:20220307T092925Z
LAST-MODIFIED:20220327T162651Z
UID:1014-1650742200-1650751200@xn--bigbandgrazsd-7ob.at
SUMMARY:Konzert mit der Big Band Graz Süd & Sigi Feigl
DESCRIPTION: \n„On the Road – From New York to L. A.“ \nSchon im frühen 19. Jahrhundert zogen Siedler in den amerikanischen Westen\, auf der Suche nach Freiheit und nach Wegen\, die Beschränkungen des bisherigen Lebens hinter sich zu lassen. Nach vielen Monaten der Beschränkungen erleben auch Sigi Feigl und die Bigband Graz-Süd diese Aufbruchstimmung und den alten Pioniergeist\, der nach Westen führt. \nDas neue Konzertprogramm „On the Road – From New York to L. A.“ entführt Sie in die Zeit von Frank Sinatra\, der wie die Orchester von Count Basie oder Duke Ellington auch regelmäßig „On the Road“ war. Von „New York\, New York“\, über Basies Kansas City Suite führt die swingende Reise an die Westküste der USA. Dabei dürfen neben vielen bekannten Sinatra-Hits natürlich auch Latin-Grooves und funkige Rhythmen nicht fehlen.  \nSigi Feigl bringt aus seiner umfangreichen Sammlung auch diesmal wieder Original-Arrangements der größten Bigband-Hits\, die mit den wunderbaren Stimmen von Tanja Filipovic und Erwin Adelmann ein besonderes Klangerlebnis versprechen. Das neue Sound-Design\, eine neue Lichtanlage und viel Platz für ein unbeschwertes Abstandhalten machen die Veranstaltungshalle in Gössendorf zur idealen Location für diesen nicht alltäglichen Bigband-Event. \nKarten: https://www.oeticket.com/eventseries/big-band-graz-sued-sigi-feigl-2703017/?affiliate=B38 \nVorverkauf: 16\,-\nAbendkassa: € 20\,-\nKinder & Jugendliche bis 16 Jahre frei \nDie Karten sind erhältlich: \nPoststelle Gössendorf Bundesstraße 83\, 8071 Gössendorf \nÖffnungszeiten:\nMontag\, Mittwoch\, Donnerstag\n8:00-12:00 und 14:00-16:00 Uhr\nDienstag:\n8:00-12:00 und 14:00-18:00 Uhr\nFreitag:\n8:00-12:00 und 14:00-17:00 Uhr\nTel.: 0316 / 40 13 40 – 29 \nRaiffeisenbank Hausmannstätten\nGrazer Str. 6\, 8071 Hausmannstätten\nTelefon: 03135 462120 \nRaiffeisenbank Fernitz – Mellach\nPeter-Rosegger-Straße 1\, 8072 Fernitz-Mellach\nTelefon: 03135 46212-10 \n
URL:https://xn--bigbandgrazsd-7ob.at/index.php/event/on-the-road-from-new-york-to-l-a-mit-sigi-feigl-und-der-bigband-graz-sued/
LOCATION:Sportplatzstr. 60\, Dörfla\, Steiermark\, 8071\, Österreich
END:VEVENT
END:VCALENDAR