BEGIN:VCALENDAR
VERSION:2.0
PRODID:-//Big Band Graz Süd - ECPv4.6.11//NONSGML v1.0//EN
CALSCALE:GREGORIAN
METHOD:PUBLISH
X-WR-CALNAME:Big Band Graz Süd
X-ORIGINAL-URL:https://xn--bigbandgrazsd-7ob.at
X-WR-CALDESC:Veranstaltungen für Big Band Graz Süd
BEGIN:VEVENT
DTSTART;TZID=Europe/Berlin:20260421T200000
DTEND;TZID=Europe/Berlin:20260421T220000
DTSTAMP:20260420T004212
CREATED:20260304T103654Z
LAST-MODIFIED:20260304T103849Z
UID:1277-1776801600-1776808800@xn--bigbandgrazsd-7ob.at
SUMMARY:Big Band Graz Süd & Sigi Feigl
DESCRIPTION: \n  \nUnter der Leitung von Big-Band-Mastermind Sigi Feigl präsentiert das Ensemble die Highlights aus Bob Mintzer’s legendärem Album „Latin from Manhattan“\, sowie ausgewählte Raritäten aus Feigls großem Fundus. \nDas Programm verspricht eine packende Symbiose von modernem Big-Band-Sound mit dem feurigen Rhythmus der Karibik.\nFür den authentischen Groove sorgen nicht zuletzt drei Perkussionisten\, voller Leidenschaft und Meister ihres Faches.\nVon Manhattans urbaner Energie bis hin zu kubanischem Mambo und südamerikanischem Groove – das Ensemble möchtet mit dieser energiegeladenen Mischung seine musikalische Vielseitigkeit unter Beweis stellen. \nVokales Highlight: Das Schwesternduo Anja & Sarah Rath \n \nAls perfekt eingespieltes Duo setzen Anja und Sarah sowohl im Duo als auch solistisch glanzvolle vokale Akzente. Mit ihrer charmanten Bühnenpräsenz interpretieren sie bekannte Ohrwürmer der Jazz-Tradition neu und verleihen dem Konzert eine ganz persönliche Note. \nDie Big Band Graz Süd lädt Sie ein\, ein facettenreiches Programm zu genießen\, und freut sich darauf\, diesen Abend unvergesslich zu machen. \n
URL:https://xn--bigbandgrazsd-7ob.at/index.php/event/big-band-graz-sued-sigi-feigl/
LOCATION:Grieskai 74\, Graz\, 8020\, Österreich
ORGANIZER;CN="Big%20Band%20Graz%20S%C3%BCd":MAILTO:griesbacher@kursplattform.at
END:VEVENT
END:VCALENDAR